Workbook

Sheet Spis tresci_Table of content
D1: ING Bank Śląski S.A.
D3: Spis treści | E3: Table of content
D4: Kluczowe informacje | E4: Key data
D5: Rachunek zysków i strat | E5: Profit and loss statement
D6: Rachunek zysków i strat - segment korporacyjny | E6: Profit and loss statement - corporate segment
D7: Rachunek zysków i strat - segment detaliczny | E7: Profit and loss statement - retail segment
D8: Wynik z tytułu odsetek | E8: Net interest income
D9: Marża odsetkowa | E9: Net interest margin
D10: Wynik z tytułu opłat i prowizji | E10: Net fee and commission income
D11: Pozostałe dochody | E11: Other income
D12: Koszty działania | E12: Operating costs
D13: Koszty ryzyka | E13: Cost of risk
D14: Sprawozdanie z sytuacji finansowej | E14: Balance sheet statement
... D20: Pozostałe informacje | E20: Other information

Sheet Kluczowe informacje_Key data
A1: Go back to Table of content | B1: Powrót do spisu treści
A2: Comparable data pro-forma | B2: Dane porównywalne pro-forma
A3: Key financial and business information | B3: Kluczowe informacje finansowe i biznesowe | BC3: 2020 | BG3: 2021 | BK3: 2022 | BO3: 2023 | BS3: 2024 | BW3: 2025 | CA3: 2026
BC4: 1Q | BD4: 2Q | BE4: 3Q | BF4: 4Q | BG4: 1Q | BH4: 2Q | BI4: 3Q | BJ4: 4Q | BK4: 1Q | BL4: 2Q | BM4: 3Q | BN4: 4Q | BO4: 1Q | BP4: 2Q | BQ4: 3Q | BR4: 4Q | BS4: 1Q | BT4: 2Q | BU4: 3Q | BV4: 4Q | BW4: 1Q | BX4: 2Q | BY4: 3Q | BZ4: 4Q | CA4: 1Q | CB4: 2Q | CC4: 3Q
A5: (PLN million) | B5: (w mln zł)
A6: P&L: | B6: Wynik finansowy:
A7: Income 1 | B7: Dochody 1 | BC7: ='RZiS_P&L'!BC22+'RZiS_P&L'!BC28 -> 1562 | BD7: ='RZiS_P&L'!BD22+'RZiS_P&L'!BD28 -> 1513 | BE7: ='RZiS_P&L'!BE22+'RZiS_P&L'!BE28 -> 1552 | BF7: ='RZiS_P&L'!BF22+'RZiS_P&L'!BF28 -> 1605 | BG7: ='RZiS_P&L'!BG22+'RZiS_P&L'!BG28 -> 1602 | BH7: ='RZiS_P&L'!BH22+'RZiS_P&L'!BH28 -> 1660 | BI7: ='RZiS_P&L'!BI22+'RZiS_P&L'!BI28 -> 1750 | BJ7: ='RZiS_P&L'!BJ22+'RZiS_P&L'!BJ28 -> 1885 | ... CC7: ='RZiS_P&L'!CC22+'RZiS_P&L'!CC28 -> 3159
A8: Costs | B8: Koszty | BC8: ='RZiS_P&L'!BC23 -> -775 | BD8: ='RZiS_P&L'!BD23 -> -638 | BE8: ='RZiS_P&L'!BE23 -> -667 | BF8: ='RZiS_P&L'!BF23 -> -683 | BG8: ='RZiS_P&L'!BG23 -> -821 | BH8: ='RZiS_P&L'!BH23 -> -692 | BI8: ='RZiS_P&L'!BI23 -> -694 | BJ8: ='RZiS_P&L'!BJ23 -> -758 | ... CC8: ='RZiS_P&L'!CC23 -> -1117
A9: Risk costs including legal cost of risk for FX-mortgage loans | B9: Koszty ryzyka łącznie z kosztami ryzyka prawnego walutowych kredytów hipotecznych | BC9: ='RZiS_P&L'!BC26+'RZiS_P&L'!BC27 -> -294 | BD9: ='RZiS_P&L'!BD26+'RZiS_P&L'!BD27 -> -313 | BE9: ='RZiS_P&L'!BE26+'RZiS_P&L'!BE27 -> -145 | BF9: ='RZiS_P&L'!BF26+'RZiS_P&L'!BF27 -> -323 | BG9: ='RZiS_P&L'!BG26+'RZiS_P&L'!BG27 -> -129 | BH9: ='RZiS_P&L'!BH26+'RZiS_P&L'!BH27 -> -19 | BI9: ='RZiS_P&L'!BI26+'RZiS_P&L'!BI27 -> -80 | BJ9: ='RZiS_P&L'!BJ26+'RZiS_P&L'!BJ27 -> -144 | ... CC9: ='RZiS_P&L'!CC26+'RZiS_P&L'!CC27 -> -73
A10: Gross profit | B10: Zysk brutto | BC10: ='RZiS_P&L'!BC29 -> 377 | BD10: ='RZiS_P&L'!BD29 -> 441 | BE10: ='RZiS_P&L'!BE29 -> 618 | BF10: ='RZiS_P&L'!BF29 -> 476 | BG10: ='RZiS_P&L'!BG29 -> 526 | BH10: ='RZiS_P&L'!BH29 -> 818 | BI10: ='RZiS_P&L'!BI29 -> 838 | BJ10: ='RZiS_P&L'!BJ29 -> 833 | ... CC10: ='RZiS_P&L'!CC29 -> 1746
A11: Net profit 2 | B11: Zysk netto 2 | BC11: ='RZiS_P&L'!BC32 -> 267 | BD11: ='RZiS_P&L'!BD32 -> 317 | BE11: ='RZiS_P&L'!BE32 -> 440 | BF11: ='RZiS_P&L'!BF32 -> 314 | BG11: ='RZiS_P&L'!BG32 -> 386 | BH11: ='RZiS_P&L'!BH32 -> 615 | BI11: ='RZiS_P&L'!BI32 -> 638 | BJ11: ='RZiS_P&L'!BJ32 -> 669 | ... CC11: ='RZiS_P&L'!CC32 -> 1133
A13: BS: | B13: Dane bilansowe:
A14: Balance sheet total | B14: Suma bilansowa | BC14: =Bilans_BS!BC25 -> 171241 | BD14: =Bilans_BS!BD25 -> 180639 | BE14: =Bilans_BS!BE25 -> 184860 | BF14: =Bilans_BS!BF25 -> 186596 | BG14: =Bilans_BS!BG25 -> 194821 | BH14: =Bilans_BS!BH25 -> 197282 | BI14: =Bilans_BS!BI25 -> 200543 | BJ14: =Bilans_BS!BJ25 -> 201654 | ... CC14: =Bilans_BS!CC25 -> 321596
A15: Loans and receivables to customers (net) 3, of which: | B15: Kredyty i inne należności udzielone klientom netto 3, w tym: | BC15: =Bilans_BS!BC14 -> 123460 | BD15: =Bilans_BS!BD14 -> 120598 | BE15: =Bilans_BS!BE14 -> 122382 | BF15: =Bilans_BS!BF14 -> 124655 | BG15: =Bilans_BS!BG14 -> 129453 | BH15: =Bilans_BS!BH14 -> 133769 | BI15: =Bilans_BS!BI14 -> 141169 | BJ15: =Bilans_BS!BJ14 -> 146536 | ... CC15: =Bilans_BS!CC14 -> 189694
A16: Loans | B16: Kredyty | BC16: =Kredyty_loans!BC67-Kredyty_loans!BC71-Kredyty_loans!BC72-Kredyty_loans!BC77 -> 106249 | BD16: =Kredyty_loans!BD67-Kredyty_loans!BD71-Kredyty_loans!BD72-Kredyty_loans!BD77 -> 104508 | BE16: =Kredyty_loans!BE67-Kredyty_loans!BE71-Kredyty_loans!BE72-Kredyty_loans!BE77 -> 106443 | BF16: =Kredyty_loans!BF67-Kredyty_loans!BF71-Kredyty_loans!BF72-Kredyty_loans!BF77 -> 108230 | BG16: =Kredyty_loans!BG67-Kredyty_loans!BG71-Kredyty_loans!BG72-Kredyty_loans!BG77 -> 112435 | BH16: =Kredyty_loans!BH67-Kredyty_loans!BH71-Kredyty_loans!BH72-Kredyty_loans!BH77 -> 115650 | BI16: =Kredyty_loans!BI67-Kredyty_loans!BI71-Kredyty_loans!BI72-Kredyty_loans!BI77 -> 121406 | BJ16: =Kredyty_loans!BJ67-Kredyty_loans!BJ71-Kredyty_loans!BJ72-Kredyty_loans!BJ77 -> 125373 | ... CC16: =Kredyty_loans!CC67-Kredyty_loans!CC71-Kredyty_loans!CC72-Kredyty_loans!CC77 -> 165129
A17: Leasing receivables | B17: Należności leasingowe | BC17: =Kredyty_loans!BC71+Kredyty_loans!BC77 -> 9526 | BD17: =Kredyty_loans!BD71+Kredyty_loans!BD77 -> 9364 | BE17: =Kredyty_loans!BE71+Kredyty_loans!BE77 -> 9504 | BF17: =Kredyty_loans!BF71+Kredyty_loans!BF77 -> 9698 | BG17: =Kredyty_loans!BG71+Kredyty_loans!BG77 -> 10024 | BH17: =Kredyty_loans!BH71+Kredyty_loans!BH77 -> 10269 | BI17: =Kredyty_loans!BI71+Kredyty_loans!BI77 -> 10551 | BJ17: =Kredyty_loans!BJ71+Kredyty_loans!BJ77 -> 11090 | ... CC17: =Kredyty_loans!CC71+Kredyty_loans!CC77 -> 13866
A18: Factoring receivables | B18: Należności faktoringowe | BC18: =Kredyty_loans!BC72 -> 5328 | BD18: =Kredyty_loans!BD72 -> 4543 | BE18: =Kredyty_loans!BE72 -> 4612 | BF18: =Kredyty_loans!BF72 -> 4794 | BG18: =Kredyty_loans!BG72 -> 5055 | BH18: =Kredyty_loans!BH72 -> 5693 | BI18: =Kredyty_loans!BI72 -> 6173 | BJ18: =Kredyty_loans!BJ72 -> 6824 | ... CC18: =Kredyty_loans!CC72 -> 7046
A19: Liabilities due to customers | B19: Zobowiązania wobec klientów | BC19: =Bilans_BS!BC33 -> 139089 | BD19: =Bilans_BS!BD33 -> 150979 | BE19: =Bilans_BS!BE33 -> 154400 | BF19: =Bilans_BS!BF33 -> 151029 | BG19: =Bilans_BS!BG33 -> 156896 | BH19: =Bilans_BS!BH33 -> 161998 | BI19: =Bilans_BS!BI33 -> 164586 | BJ19: =Bilans_BS!BJ33 -> 170610 | ... CC19: =Bilans_BS!CC33 -> 266544
A20: Equity 4 | B20: Kapitały własne 4 | BC20: =Bilans_BS!BC48 -> 17341 | BD20: =Bilans_BS!BD48 -> 18236 | BE20: =Bilans_BS!BE48 -> 18596 | BF20: =Bilans_BS!BF48 -> 18618 | BG20: =Bilans_BS!BG48 -> 17560 | BH20: =Bilans_BS!BH48 -> 17858 | BI20: =Bilans_BS!BI48 -> 17440 | BJ20: =Bilans_BS!BJ48 -> 13531 | ... CC20: =Bilans_BS!CC48 -> 18990
A22: Total capital ratio (consolidated) as % | B22: Łączny współczynnik kapitałowy w % (skonsolidowany) | BC22: ='Łączny współ kap_TCR'!BC21 -> 0.1575 | BD22: ='Łączny współ kap_TCR'!BD21 -> 0.1833 | BE22: ='Łączny współ kap_TCR'!BE21 -> 0.1866 | BF22: ='Łączny współ kap_TCR'!BF21 -> 0.1953 | BG22: ='Łączny współ kap_TCR'!BG21 -> 0.188 | BH22: ='Łączny współ kap_TCR'!BH21 -> 0.1854 | BI22: ='Łączny współ kap_TCR'!BI21 -> 0.1765 | BJ22: ='Łączny współ kap_TCR'!BJ21 -> 0.1605 | ... CC22: ='Łączny współ kap_TCR'!CC21 -> 0.1509
A26: Total capital ratio (standalone) as % | B26: Łączny współczynnik kapitałowy w % (jednostkowy) | BC26: ='Łączny współ kap_TCR'!BC58 -> 1.2963 | BD26: ='Łączny współ kap_TCR'!BD58 -> 1.5046 | BE26: ='Łączny współ kap_TCR'!BE58 -> 1.4667 | BF26: ='Łączny współ kap_TCR'!BF58 -> 1.5212 | BG26: ='Łączny współ kap_TCR'!BG58 -> 0.2013 | BH26: ='Łączny współ kap_TCR'!BH58 -> 0.1986 | BI26: ='Łączny współ kap_TCR'!BI58 -> 0.1895 | BJ26: ='Łączny współ kap_TCR'!BJ58 -> 0.1709 | ... CC26: ='Łączny współ kap_TCR'!CC58 -> 0.1711
A27: MREL - TREA (standalone) as % | B27: MREL - TREA w % (jednostkowy) | BJ27: 0.17086015 | BK27: 0.16381143 | BL27: 0.15717424 | BM27: 0.15649692 | BN27: 0.17838609 | BO27: 0.19116122 | BP27: 0.19703322 | BQ27: 0.19381878 | BR27: 0.26313251 | BS27: 0.24960483 | BT27: 0.23138428 | BU27: 0.22374718 | BV27: 0.24151545 | BW27: 0.26129051 | BX27: 0.25597768 | BY27: 0.24467841 | BZ27: 0.26030054 | CA27: 0.25398282 | CB27: 0.25594392 | CC27: 0.25159181
A29: LR (consolidated) as % | B29: Wskaźnik dzwigni w % (skonsolidowany) | BC29: 0.0643 | BD29: 0.0696 | BE29: 0.0685 | BF29: 0.0731 | BG29: 0.0705 | BH29: 0.0719 | BI29: 0.0711 | BJ29: 0.069489624 | BK29: 0.065683734 | BL29: 0.063373163 | BM29: 0.063757474 | BN29: 0.069753026 | BO29: 0.066584008 | BP29: 0.067242188 | BQ29: 0.065 | BR29: 0.0675 | BS29: 0.0666 | BT29: 0.0636 | BU29: 0.062 | BV29: 0.066 | BW29: 0.0616 | BX29: 0.0585 | BY29: 0.0567 | BZ29: 0.0621 | CA29: 0.0563 | CB29: 0.0556 | CC29: 0.0541
A30: LCR (consolidated) as % | B30: LCR w % (skonsolidowany) | BC30: 1.41 | BD30: 2.23 | BE30: 2.13 | BF30: 2.2 | BG30: 2.08 | BH30: 2 | BI30: 2 | BJ30: 1.64 | BK30: 1.26 | BL30: 1.32 | BM30: 1.32 | BN30: 1.52 | BO30: 2.21 | BP30: 1.43 | BQ30: 1.68 | BR30: 2.16 | BS30: 1.94 | BT30: 1.97 | BU30: 2.12 | BV30: 2.79 | BW30: 2.41 | BX30: 2.32 | BY30: 2.31 | BZ30: 2.51 | CA30: 1.99 | CB30: 2.15 | CC30: 1.94
A31: NSFR (consolidated) as % | B31: NSFR w % (skonsolidowany) | BC31: 1.3 | BD31: 1.44 | BE31: 1.44 | BF31: 1.44 | BG31: 1.42 | BH31: 1.63 | BI31: 1.57 | BJ31: 1.58 | BK31: 1.53 | BL31: 1.53 | BM31: 1.54 | BN31: 1.56 | BO31: 1.64 | BP31: 1.55 | BQ31: 1.63 | BR31: 1.71 | BS31: 1.76 | BT31: 1.72 | BU31: 1.72 | BV31: 1.78 | BW31: 1.78 | BX31: 1.8 | BY31: 1.75 | BZ31: 1.62 | CA31: 1.66 | CB31: 1.69 | CC31: 1.7
A33: Basic ratios: | B33: Podstawowe wskaźniki:
A34: Net profit/ Balance sheet total (ROA) as % | B34: Zysk netto/suma bilansowa (ROA) w % | BC34: =SUM(AZ11:BC11)/AVERAGE(AY14:BC14)*100 -> 0.1559206 | BD34: =SUM(BA11:BD11)/AVERAGE(AZ14:BD14)*100 -> 0.33193134 | BE34: =SUM(BB11:BE11)/AVERAGE(BA14:BE14)*100 -> 0.57234415 | BF34: =SUM(BC11:BF11)/AVERAGE(BB14:BF14)*100 -> 0.73990511 | BG34: =SUM(BD11:BG11)/AVERAGE(BC14:BG14)*100 -> 0.79343729 | BH34: =SUM(BE11:BH11)/AVERAGE(BD14:BH14)*100 -> 0.92936016 | BI34: =SUM(BF11:BI11)/AVERAGE(BE14:BI14)*100 -> 1.0128596 | BJ34: =SUM(BG11:BJ11)/AVERAGE(BF14:BJ14)*100 -> 1.1764754 | ... CC34: =SUM(BZ11:CC11)/AVERAGE(BY14:CC14)*100 -> 1.5035189
A35: Net profit/ Equity (ROE) as % | B35: Zysk netto/Kapitały (ROE) w % | BC35: =SUM(AZ11:BC11)/AVERAGE(AY20:BC20)*100 -> 1.5397036 | BD35: =SUM(BA11:BD11)/AVERAGE(AZ20:BD20)*100 -> 3.2830199 | BE35: =SUM(BB11:BE11)/AVERAGE(BA20:BE20)*100 -> 5.6707216 | BF35: =SUM(BC11:BF11)/AVERAGE(BB20:BF20)*100 -> 7.3525573 | BG35: =SUM(BD11:BG11)/AVERAGE(BC20:BG20)*100 -> 8.0629987 | BH35: =SUM(BE11:BH11)/AVERAGE(BD20:BH20)*100 -> 9.6568649 | BI35: =SUM(BF11:BI11)/AVERAGE(BE20:BI20)*100 -> 10.841327 | BJ35: =SUM(BG11:BJ11)/AVERAGE(BF20:BJ20)*100 -> 13.575353 | ... CC35: =SUM(BZ11:CC11)/AVERAGE(BY20:CC20)*100 -> 22.661654
A36: Cost (no bank levy)/Income ratio (C/I) as % | B36: Koszty (bez podatku bankowego)/Dochody w % | BC36: =-ROUND(BC8/BC7*100,1) -> 49.6 | BD36: =-ROUND(BD8/BD7*100,1) -> 42.2 | BE36: =-ROUND(BE8/BE7*100,1) -> 43 | BF36: =-ROUND(BF8/BF7*100,1) -> 42.6 | BG36: =-ROUND(BG8/BG7*100,1) -> 51.2 | BH36: =-ROUND(BH8/BH7*100,1) -> 41.7 | BI36: =-ROUND(BI8/BI7*100,1) -> 39.7 | BJ36: =-ROUND(BJ8/BJ7*100,1) -> 40.2 | ... CC36: =-ROUND(CC8/CC7*100,1) -> 35.4
A37: Cost (no bank levy)/Income ratio (C/I) as % - cumulatively | B37: Koszty (bez podatku bankowego)/Dochody w % - narastająco | BC37: =-SUM($BC$8:BC8)/SUM($BC$7:BC7)*100 -> 49.615877 | BD37: =-SUM($BC$8:BD8)/SUM($BC$7:BD7)*100 -> 45.95122 | BE37: =-SUM($BC$8:BE8)/SUM($BC$7:BE7)*100 -> 44.953534 | BF37: =-SUM($BC$8:BF8)/SUM($BC$7:BF7)*100 -> 44.335687 | BG37: =-SUM($BG$8:BG8)/SUM($BG$7:BG7)*100 -> 51.248439 | BH37: =-SUM($BG$8:BH8)/SUM($BG$7:BH7)*100 -> 46.382587 | BI37: =-SUM($BG$8:BI8)/SUM($BG$7:BI7)*100 -> 44.034318 | BJ37: =-SUM($BG$8:BJ8)/SUM($BG$7:BJ7)*100 -> 42.989706 | BK37: =-SUM($BK$8:BK8)/SUM($BK$7:BK7)*100 -> 40.407986 | BL37: =-SUM($BK$8:BL8)/SUM($BK$7:BL7)*100 -> 45.54392 | BM37: =-SUM($BK$8:BM8)/SUM($BK$7:BM7)*100 -> 54.664939 | BN37: =-SUM($BK$8:BN8)/SUM($BK$7:BN7)*100 -> 47.163947 | BO37: =-SUM(BO8:BO8)/SUM(BO7:BO7)*100 -> 40.764849 | BP37: =-SUM(BO8:BP8)/SUM(BO7:BP7)*100 -> 36.368989 | BQ37: =-SUM(BO8:BQ8)/SUM(BO7:BQ7)*100 -> 34.952332 | BR37: =-SUM(BO8:BR8)/SUM(BO7:BR7)*100 -> 34.650684 | BS37: =-SUM(BS8:BS8)/SUM(BS7:BS7)*100 -> 39.456522 | BT37: =-SUM(BS8:BT8)/SUM(BS7:BT7)*100 -> 37.843281 | BU37: =-SUM(BS8:BU8)/SUM(BS7:BU7)*100 -> 36.090226 | BV37: =-SUM(BS8:BV8)/SUM(BS7:BV7)*100 -> 35.091763 | BW37: =-SUM(BW8:BW8)/SUM(BW7:BW7)*100 -> 41.178486 | BX37: =-SUM(BW8:BX8)/SUM(BW7:BX7)*100 -> 38.653879 | BY37: =-SUM(BW8:BY8)/SUM(BW7:BY7)*100 -> 37.558258 | BZ37: =-SUM(BW8:BZ8)/SUM(BW7:BZ7)*100 -> 36.1397 | CA37: =-SUM(BX8:CA8)/SUM(BX7:CA7)*100 -> 36.412953 | CB37: =-SUM(CA8:CB8)/SUM(CA7:CB7)*100 -> 37.960159 | CC37: =-SUM(CB8:CC8)/SUM(CB7:CC7)*100 -> 34.726789
A38: Net interest margin (NIM) as % 5 | B38: Marża odsetkowa netto w % 5 | BC38: ='Marża odsetkowa_NIM'!BC28*100 -> 0.68749441 | BD38: ='Marża odsetkowa_NIM'!BD28*100 -> 1.3055262 | BE38: ='Marża odsetkowa_NIM'!BE28*100 -> 1.9307044 | BF38: ='Marża odsetkowa_NIM'!BF28*100 -> 2.5625004 | BG38: ='Marża odsetkowa_NIM'!BG28*100 -> 2.5181359 | BH38: ='Marża odsetkowa_NIM'!BH28*100 -> 2.4880594 | BI38: ='Marża odsetkowa_NIM'!BI28*100 -> 2.4929111 | BJ38: ='Marża odsetkowa_NIM'!BJ28*100 -> 2.5910004 | ... CC38: ='Marża odsetkowa_NIM'!CC28*100 -> 3.1794707
A40: Information for investors and shareholders: | B40: Informacje dla inwestorów i akcjonariuszy:
A41: Number of shares 6 | B41: Liczba akcji 6 | BC41: 130100000 | BD41: =BC41 -> 130100000 | BE41: =BD41 -> 130100000 | BF41: =BE41 -> 130100000 | BG41: =BF41 -> 130100000 | BH41: =BG41 -> 130100000 | BI41: =BH41 -> 130100000 | BJ41: =BI41 -> 130100000 | BK41: =BJ41 -> 130100000 | ... CC41: =CB41 -> 130100000
A42: Net book value | B42: Wartość księgowa | BC42: =BC20 -> 17341 | BD42: =BD20 -> 18236 | BE42: =BE20 -> 18596 | BF42: =BF20 -> 18618 | BG42: =BG20 -> 17560 | BH42: =BH20 -> 17858 | BI42: =BI20 -> 17440 | BJ42: =BJ20 -> 13531 | ... CC42: =CC20 -> 18990
A43: Net book value per share in PLN | B43: Wartość księgowa na jedną akcję w zł | BC43: =+BC42/BC41*1000000 -> 133.28978 | BD43: =+BD42/BD41*1000000 -> 140.1691 | BE43: =+BE42/BE41*1000000 -> 142.9362 | BF43: =+BF42/BF41*1000000 -> 143.1053 | BG43: =+BG42/BG41*1000000 -> 134.9731 | BH43: =+BH42/BH41*1000000 -> 137.26364 | BI43: =+BI42/BI41*1000000 -> 134.05073 | BJ43: =+BJ42/BJ41*1000000 -> 104.00461 | ... CC43: =+CC42/CC41*1000000 -> 145.96464
A44: Earnings per 1 share in PLN | B44: Zysk na 1 akcję w zł | BC44: =(BC11/BC41)*1000000 -> 2.0522675 | BD44: =(BD11/BD41)*1000000 -> 2.4365872 | BE44: =(BE11/BE41)*1000000 -> 3.3820138 | BF44: =(BF11/BF41)*1000000 -> 2.4135281 | BG44: =(BG11/BG41)*1000000 -> 2.9669485 | BH44: =(BH11/BH41)*1000000 -> 4.727133 | BI44: =(BI11/BI41)*1000000 -> 4.9039201 | BJ44: =(BJ11/BJ41)*1000000 -> 5.1421983 | ... CC44: =(CC11/CC41)*1000000 -> 8.7086856
A45: Market capitalisation | B45: Kapitalizacja giełdowa | BC45: =(+BC46*BC41)/1000000 -> 19358.88 | BD45: =(+BD46*BD41)/1000000 -> 18500.22 | BE45: =(+BE46*BE41)/1000000 -> 16002.3 | BF45: =(+BF46*BF41)/1000000 -> 22247.1 | BG45: =(+BG46*BG41)/1000000 -> 22689.44 | BH45: =(+BH46*BH41)/1000000 -> 24068.5 | BI45: =(+BI46*BI41)/1000000 -> 30248.25 | BJ45: =(+BJ46*BJ41)/1000000 -> 34736.7 | ... CC45: =(+CC46*CC41)/1000000 -> 61147
A46: Share price in PLN | B46: Kurs akcji w zł | BC46: 148.8 | BD46: 142.2 | BE46: 123 | BF46: 171 | BG46: 174.4 | BH46: 185 | BI46: 232.5 | BJ46: 267 | BK46: 236.5 | BL46: 170.4 | BM46: 139.2 | BN46: 164.8 | BO46: 164 | BP46: 187.4 | BQ46: 180 | BR46: 256 | BS46: 339.5 | BT46: 304 | BU46: 263 | BV46: 241.5 | BW46: 318 | BX46: 311.5 | BY46: 303.5 | BZ46: 341.5 | CA46: 406 | CB46: 446 | CC46: 470
A48: Other quantitative data: | B48: Pozostałe dane ilościowe:
A49: Number of retail clients in thousands | B49: Liczba klientów detalicznych w tys. | BC49: 4133 | BD49: 4165 | BE49: 4215 | BF49: 4236 | BG49: 4267 | BH49: 4292 | BI49: 4338 | BJ49: 4348 | BK49: 4361 | BL49: 4391 | BM49: 4440 | BN49: 4383 | BO49: 4423 | BP49: 4436 | BQ49: 4471 | BR49: 4453 | BS49: 4495 | BT49: 4499 | BU49: 4541 | BV49: 4566 | BW49: 4615 | BX49: 4654 | BY49: 4676 | BZ49: 4700 | CA49: 4748 | CB49: 4815 | CC49: 4867
...

Sheet RZiS_P&L
A1: Go back to Table of content | B1: Powrót do spisu treści
A2: Comparable data pro-forma | B2: Dane porównywalne pro-forma
A3: CONSOLIDATED INCOME STATEMENT of the ING Bank Śląski Group S.A. | B3: SKONSOLIDOWANY RACHUNEK ZYSKÓW I STRAT Grupy Kapitałowej ING Banku Śląskiego S.A. | BC3: 2020 | BG3: 2021 | BK3: 2022 | BO3: 2023 | BS3: 2024 | BW3: 2025 | CA3: 2026
BC4: 1Q | BD4: 2Q | BE4: 3Q | BF4: 4Q | BG4: 1Q | BH4: 2Q | BI4: 3Q | BJ4: 4Q | BK4: 1Q | BL4: 2Q | BM4: 3Q | BN4: 4Q | BO4: 1Q | BP4: 2Q | BQ4: 3Q | BR4: 4Q | BS4: 1Q | BT4: 2Q | BU4: 3Q | BV4: 4Q | BW4: 1Q | BX4: 2Q | BY4: 3Q | BZ4: 4Q | CA4: 1Q | CB4: 2Q | CC4: 3Q
A5: (PLN million) | B5: (w mln zł)
A6: - Interest income | B6: - Przychody z tytułu odsetek w tym | BC6: 1387 | BD6: 1304 | BE6: 1277 | BF6: 1279 | BG6: 1268 | BH6: 1296 | BI6: 1353 | BJ6: 1516 | BK6: 1852 | BL6: 2379 | BM6: 1018 | BN6: 2863 | BO6: 2982 | BP6: 3134 | BQ6: 3177 | BR6: 3116 | BS6: 3232 | BT6: 3114 | BU6: 3356 | BV6: 3410 | BW6: 3368 | BX6: 3453 | BY6: 3504 | BZ6: 3487 | CA6: 3427 | CB6: 3478 | CC6: 3628
A7: Interest income on assets measured at amortised cost | B7: przychody odsetkowe od aktywów wycenianych wg zamortyzowanego kosztu | BC7: =BC6-BC8 -> 1387 | BD7: =BD6-BD8 -> 1304 | BE7: =BE6-BE8 -> 1277 | BF7: =BF6-BF8 -> 1279 | BG7: =BG6-BG8 -> 1268 | BH7: =BH6-BH8 -> 1296 | BI7: =BI6-BI8 -> 1353 | BJ7: =BJ6-BJ8 -> 1516 | ... CC7: =CC6-CC8 -> 3560
A8: Other interest income | B8: pozostałe przychody odsetkowe | BC8: 0 | BD8: 0 | BE8: 0 | BF8: 0 | BG8: 0 | BH8: 0 | BI8: 0 | BJ8: 0 | BK8: 61 | BL8: 234 | BM8: 312 | BN8: 340 | BO8: 302 | BP8: 287 | BQ8: 243 | BR8: 207 | BS8: 206 | BT8: 198 | BU8: 175 | BV8: 167 | BW8: 167 | BX8: 143 | BY8: 111 | BZ8: 94 | CA8: 89 | CB8: 76 | CC8: 68
A9: - Interest expenses | B9: - Koszty odsetek | BC9: -235 | BD9: -204 | BE9: -141 | BF9: -125 | BG9: -126 | BH9: -122 | BI9: -116 | BJ9: -99 | BK9: -119 | BL9: -481 | BM9: -845 | BN9: -1053 | BO9: -1122 | BP9: -1080 | BQ9: -1087 | BR9: -949 | BS9: -1070 | BT9: -1072 | BU9: -1096 | BV9: -1149 | BW9: -1157 | BX9: -1280 | BY9: -1312 | BZ9: -1192 | CA9: -1094 | CB9: -1148 | CC9: -1184
A10: Net interest income | B10: Wynik z tytułu odsetek | BC10: =BC6+BC9 -> 1152 | BD10: =BD6+BD9 -> 1100 | BE10: =BE6+BE9 -> 1136 | BF10: =BF6+BF9 -> 1154 | BG10: =BG6+BG9 -> 1142 | BH10: =BH6+BH9 -> 1174 | BI10: =BI6+BI9 -> 1237 | BJ10: =BJ6+BJ9 -> 1417 | ... CC10: =CC6+CC9 -> 2444
A11: - Commission income | B11: - Przychody z tytułu prowizji | BC11: 461 | BD11: 450 | BE11: 507 | BF11: 548 | BG11: 532 | BH11: 560 | BI11: 602 | BJ11: 631 | BK11: 656 | BL11: 650 | BM11: 671 | BN11: 660 | BO11: 652 | BP11: 675 | BQ11: 696 | BR11: 699 | BS11: 714 | BT11: 719 | BU11: 732 | BV11: 722 | BW11: 725 | BX11: 747 | BY11: 762 | BZ11: 753 | CA11: 758 | CB11: 873 | CC11: 899
A12: - Commission expenses | B12: - Koszty prowizji | BC12: -102 | BD12: -106 | BE12: -113 | BF12: -116 | BG12: -103 | BH12: -104 | BI12: -119 | BJ12: -154 | BK12: -122 | BL12: -131 | BM12: -140 | BN12: -149 | BO12: -130 | BP12: -142 | BQ12: -143 | BR12: -143 | BS12: -138 | BT12: -148 | BU12: -150 | BV12: -157 | BW12: -146 | BX12: -163 | BY12: -164 | BZ12: -155 | CA12: -163 | CB12: -194 | CC12: -207
A13: Net commission income | B13: Wynik z tytułu prowizji | BC13: =BC11+BC12 -> 359 | BD13: =BD11+BD12 -> 344 | BE13: =BE11+BE12 -> 394 | BF13: =BF11+BF12 -> 432 | BG13: =BG11+BG12 -> 429 | BH13: =BH11+BH12 -> 456 | BI13: =BI11+BI12 -> 483 | BJ13: =BJ11+BJ12 -> 477 | ... CC13: =CC11+CC12 -> 692
A14: - Net income on financial instruments measured at fair value through profit or loss and FX result | B14: - Wynik na instrumentach finansowych wycenianych przez rachunek zysków i strat oraz wynik z pozycji wymiany | BC14: 14 | BD14: 44 | BE14: 25 | BF14: 21 | BG14: 34 | BH14: 16 | BI14: 22 | BJ14: -8 | BK14: 47 | BL14: -42 | BM14: 25 | BN14: 2 | BO14: 74 | BP14: 37 | BQ14: 109 | BR14: 112 | BS14: 19 | BT14: 67 | BU14: 52 | BV14: 60 | BW14: 108 | BX14: 171 | BY14: 116 | BZ14: 126 | CA14: 41 | CB14: 108 | CC14: 67
A15: - Net income on the sale of securities and dividend income | B15: - Wynik na sprzedaży papierów wartościowych oraz przychody z tytułu dywidend | BC15: 9 | BD15: 19 | BE15: 5 | BF15: 5 | BG15: 0 | BH15: 8 | BI15: 4 | BJ15: 29 | BK15: -2 | BL15: 13 | BM15: -9 | BN15: 0 | BO15: 1 | BP15: 9 | BQ15: 3 | BR15: -12 | BS15: -4 | BT15: 12 | BU15: 0 | BV15: -17 | BW15: 1 | BX15: 8 | BY15: 3 | BZ15: 43 | CA15: -1 | CB15: 86 | CC15: -19
A19: - Net income on investments | B19: - Wynik na inwestycjach | BC19: - | BD19: - | BE19: - | BF19: - | BG19: - | BH19: - | BI19: - | BJ19: - | BK19: - | BL19: - | BM19: - | BN19: - | BO19: - | BP19: - | BQ19: - | BR19: - | BS19: - | BT19: - | BU19: - | BV19: - | BW19: - | BX19: - | BY19: - | BZ19: - | CA19: - | CB19: - | CC19: -
A20: - Net income on hedge accounting | B20: - Wynik na rachunkowości zabezpieczeń | BC20: 24 | BD20: 5 | BE20: -15 | BF20: -2 | BG20: -11 | BH20: -3 | BI20: -5 | BJ20: -33 | BK20: -15 | BL20: -18 | BM20: -1 | BN20: -5 | BO20: -5 | BP20: -3 | BQ20: -94 | BR20: 97 | BS20: -3 | BT20: 2 | BU20: 15 | BV20: -4 | BW20: 5 | BX20: -34 | BY20: 39 | BZ20: -25 | CA20: 45 | CB20: 4 | CC20: -11
A21: - Net income on other basic activities | B21: - Wynik na pozostałej działalności podstawowej | BC21: 0 | BD21: -3 | BE21: 3 | BF21: -9 | BG21: 2 | BH21: 2 | BI21: 1 | BJ21: -5 | BK21: 0 | BL21: -1 | BM21: -1 | BN21: -5 | BO21: 0 | BP21: 1 | BQ21: 0 | BR21: -16 | BS21: 3 | BT21: 0 | BU21: 0 | BV21: 25 | BW21: 6 | BX21: 7 | BY21: -2 | BZ21: 3 | CA21: 23 | CB21: 21 | CC21: -15
A22: Result on basic activities | B22: Wynik na działalności podstawowej | BC22: =BC10+BC13+BC14+BC20+BC21+BC15 -> 1558 | BD22: =BD10+BD13+BD14+BD20+BD21+BD15 -> 1509 | BE22: =BE10+BE13+BE14+BE20+BE21+BE15 -> 1548 | BF22: =BF10+BF13+BF14+BF20+BF21+BF15 -> 1601 | BG22: =BG10+BG13+BG14+BG20+BG21+BG15 -> 1596 | BH22: =BH10+BH13+BH14+BH20+BH21+BH15 -> 1653 | BI22: =BI10+BI13+BI14+BI20+BI21+BI15 -> 1742 | BJ22: =BJ10+BJ13+BJ14+BJ20+BJ21+BJ15 -> 1877 | ... CC22: =CC10+CC13+CC14+CC20+CC21+CC15 -> 3158
A23: - General and administrative expenses | B23: - Koszty działania banku | BC23: -775 | BD23: -638 | BE23: -667 | BF23: -683 | BG23: -821 | BH23: -692 | BI23: -694 | BJ23: -758 | BK23: -931 | BL23: -1200 | BM23: -822 | BN23: -689 | BO23: -1002 | BP23: -851 | BQ23: -860 | BR23: -987 | BS23: -1089 | BT23: -978 | BU23: -957 | BV23: -934 | BW23: -1202 | BX23: -1055 | BY23: -1047 | BZ23: -980 | CA23: -1281 | CB23: -1101 | CC23: -1117
A24: - Tax on certain financial institutions | B24: - Podatek od niektórych instytucji finansowych | BC24: -116 | BD24: -121 | BE24: -122 | BF24: -123 | BG24: -126 | BH24: -131 | BI24: -138 | BJ24: -150 | BK24: -152 | BL24: -161 | BM24: -165 | BN24: -169 | BO24: -159 | BP24: -165 | BQ24: -164 | BR24: -156 | BS24: -187 | BT24: -179 | BU24: -182 | BV24: -192 | BW24: -196 | BX24: -198 | BY24: -199 | BZ24: -208 | CA24: -204 | CB24: -221 | CC24: -223
A25: - Impairment losses and provisions for off-balance sheet liabilities | B25: - Odpisy na utratę wartości aktywów finansowych i rezerwy na zobowiązania pozabilansowe | BC25: - | BD25: - | BE25: - | BF25: - | BG25: - | BH25: - | BI25: - | BJ25: - | BK25: - | BL25: - | BM25: - | BN25: - | BO25: - | BP25: - | BQ25: - | BR25: - | BS25: - | BT25: - | BU25: - | BV25: - | BW25: - | BX25: - | BY25: - | BZ25: - | CA25: - | CB25: - | CC25: -
A26: - Impairment for expected losses | B26: - Odpisy z tytułu strat oczekiwanych | BC26: -294 | BD26: -303 | BE26: -125 | BF26: -83 | BG26: -129 | BH26: -19 | BI26: -80 | BJ26: -88 | BK26: -151 | BL26: -183 | BM26: -206 | BN26: -196 | BO26: -88 | BP26: -197 | BQ26: -151 | BR26: -72 | BS26: -196 | BT26: -292 | BU26: -348 | BV26: -108 | BW26: -209 | BX26: -192 | BY26: -251 | BZ26: -130 | CA26: -210 | CB26: -40 | CC26: -72
A27: - Legal cost of risk for FX-mortgage loans | B27: - Koszty ryzyka prawnego walutowych kredytów hipotecznych | BC27: 0 | BD27: -10 | BE27: -20 | BF27: -240 | BG27: 0 | BH27: 0 | BI27: 0 | BJ27: -56 | BK27: -1 | BL27: 0 | BM27: 0 | BN27: -293 | BO27: 0 | BP27: 0 | BQ27: 0 | BR27: -106 | BS27: -1 | BT27: -26 | BU27: 0 | BV27: -65 | BW27: 0 | BX27: -1 | BY27: 0 | BZ27: -59 | CA27: -1 | CB27: -1 | CC27: -1
A28: - Share in net profit (loss) of associated entities recognised under the equity method | B28: - Udział w zyskach netto jednostek stowarzyszonych wycenianych metodą praw własności | BC28: 4 | BD28: 4 | BE28: 4 | BF28: 4 | BG28: 6 | BH28: 7 | BI28: 8 | BJ28: 8 | BK28: 7 | BL28: 6 | BM28: 5 | BN28: 7 | BO28: 6 | BP28: 6 | BQ28: 6 | BR28: 12 | BS28: 7 | BT28: 8 | BU28: 8 | BV28: 10 | BW28: 9 | BX28: 11 | BY28: 12 | BZ28: 17 | CA28: 11 | CB28: 0 | CC28: 1
A29: Profit (loss) before tax | B29: Zysk (strata) brutto | BC29: =BC22+BC23+BC28+BC24+BC26+BC27 -> 377 | BD29: =BD22+BD23+BD28+BD24+BD26+BD27 -> 441 | BE29: =BE22+BE23+BE28+BE24+BE26+BE27 -> 618 | BF29: =BF22+BF23+BF28+BF24+BF26+BF27 -> 476 | BG29: =BG22+BG23+BG28+BG24+BG26+BG27 -> 526 | BH29: =BH22+BH23+BH28+BH24+BH26+BH27 -> 818 | BI29: =BI22+BI23+BI28+BI24+BI26+BI27 -> 838 | BJ29: =BJ22+BJ23+BJ28+BJ24+BJ26+BJ27 -> 833 | ... CC29: =CC22+CC23+CC28+CC24+CC26+CC27 -> 1746
A30: - Income tax | B30: - Podatek dochodowy | BC30: -110 | BD30: -124 | BE30: -178 | BF30: -162 | BG30: -140 | BH30: -203 | BI30: -200 | BJ30: -164 | BK30: -276 | BL30: -257 | BM30: 152 | BN30: -308 | BO30: -300 | BP30: -325 | BQ30: -330 | BR30: -324 | BS30: -294 | BT30: -262 | BU30: -328 | BV30: -292 | BW30: -298 | BX30: -339 | BY30: -349 | BZ30: -308 | CA30: -528 | CB30: -672 | CC30: -613
A31: Net profit (loss) from continuing operations | B31: Zysk (strata) netto | BC31: =BC29+BC30 -> 267 | BD31: =BD29+BD30 -> 317 | BE31: =BE29+BE30 -> 440 | BF31: =BF29+BF30 -> 314 | BG31: =BG29+BG30 -> 386 | BH31: =BH29+BH30 -> 615 | BI31: =BI29+BI30 -> 638 | BJ31: =BJ29+BJ30 -> 669 | ... CC31: =CC29+CC30 -> 1133
A32: - Net profit (loss) attributable to shareholders of ING Bank Śląski S.A. | B32: - przypadający akcjonariuszom ING Banku Śląskiego S.A. | BC32: =BC31-BC33 -> 267 | BD32: =BD31-BD33 -> 317 | BE32: =BE31-BE33 -> 440 | BF32: =BF31-BF33 -> 314 | BG32: =BG31-BG33 -> 386 | BH32: =BH31-BH33 -> 615 | BI32: =BI31-BI33 -> 638 | BJ32: =BJ31-BJ33 -> 669 | ... CC32: =CC31-CC33 -> 1133
A33: - attributable to non-controlling interests | B33: - przypadający akcjonariuszom niekontrolującym | BC33: 0 | BD33: 0 | BE33: 0 | BF33: 0 | BG33: 0 | BH33: 0 | BI33: 0 | BJ33: 0 | BK33: 0 | BL33: 0 | BM33: 0 | BN33: 0 | BO33: 0 | BP33: 0 | BQ33: 0 | BR33: 0 | BS33: 0 | BT33: 0 | BU33: 0 | BV33: 0 | BW33: 0 | BX33: 0 | BY33: 0 | BZ33: 0 | CA33: 0 | CB33: 0 | CC33: 0
A35: Net profit for the period | B35: Zysk netto za okres sprawozdawczy | BC35: 267 | BD35: 317 | BE35: 440 | BF35: 314 | BG35: 386 | BH35: 615 | BI35: 638 | BJ35: 669 | BK35: 793 | BL35: 574 | BM35: -318 | BN35: 665 | BO35: 909 | BP35: 1099 | BQ35: 1162 | BR35: 1271 | BS35: 993 | BT35: 965 | BU35: 1102 | BV35: 1309 | BW35: 1014 | BX35: 1135 | BY35: 1112 | BZ35: 1372 | CA35: 823 | CB35: 1193 | CC35: 1133
A36: Total other comprehensive income, including: | B36: Pozostałe całkowite dochody netto, w tym: | BC36: 1851 | BD36: 578 | BE36: -80 | BF36: -291 | BG36: -1444 | BH36: -318 | BI36: -1055 | BJ36: -3915 | BK36: -3169 | BL36: -3323 | BM36: 21 | BN36: 1254 | BO36: 984 | BP36: 624 | BQ36: 1055 | BR36: 281 | BS36: -284 | BT36: 105 | BU36: 949 | BV36: -374 | BW36: 623 | BX36: 945 | BY36: 427 | BZ36: 820 | CA36: -1576 | CB36: 1370 | CC36: -1832
A37: Items which can be reclassified to income statement, including: | B37: Pozycje, które mogą być przeklasyfikowane do rachunku zysków i strat | BC37: 1851 | BD37: 572 | BE37: -80 | BF37: -313 | BG37: -1444 | BH37: -336 | BI37: -1055 | BJ37: -3913 | BK37: -3169 | BL37: -3291 | BM37: 21 | BN37: 1255 | BO37: 984 | BP37: 619 | BQ37: 1055 | BR37: 202 | BS37: -284 | BT37: 103 | BU37: 949 | BV37: -384 | BW37: 623 | BX37: 907 | BY37: 427 | BZ37: 837 | CA37: -1576 | CB37: 1347 | CC37: -1832
A38: Items which will not be reclassified to income statement, including: | B38: Pozycje, które nie zostaną przeklasyfikowane do rachunku zysków i strat | BC38: 0 | BD38: 6 | BE38: 0 | BF38: 22 | BG38: 0 | BH38: 18 | BI38: 0 | BJ38: -2 | BK38: 0 | BL38: -32 | BM38: 0 | BN38: -1 | BO38: 0 | BP38: 5 | BQ38: 0 | BR38: 79 | BS38: 0 | BT38: 2 | BU38: 0 | BV38: 10 | BW38: 0 | BX38: 38 | BY38: 0 | BZ38: -17 | CA38: 0 | CB38: 23 | CC38: 0
A39: Net comprehensive income for the reporting period, including: | B39: Całkowity dochód netto za okres sprawozdawczy | BC39: 2118 | BD39: 895 | BE39: 360 | BF39: 23 | BG39: -1058 | BH39: 297 | BI39: -417 | BJ39: -3246 | BK39: -2376 | BL39: -2749 | BM39: -297 | BN39: 1919 | BO39: 1893 | BP39: 1723 | BQ39: 2217 | BR39: 1552 | BS39: 709 | BT39: 1070 | BU39: 2051 | BV39: 935 | BW39: 1637 | BX39: 2080 | BY39: 1539 | BZ39: 2192 | CA39: -753 | CB39: 2563 | CC39: -699
A40: - attributable to shareholders of ING Bank Śląski S.A. | B40: - w tym przypadający akcjonariuszom ING Banku Śląskiego S.A. | BC40: 2118 | BD40: 895 | BE40: 360 | BF40: 23 | BG40: -1058 | BH40: 297 | BI40: -417 | BJ40: -3246 | BK40: -2376 | BL40: -2749 | BM40: -297 | BN40: 1919 | BO40: 1893 | BP40: 1723 | BQ40: 2217 | BR40: 1552 | BS40: 709 | BT40: 1070 | BU40: 2051 | BV40: 935 | BW40: 1637 | BX40: 2080 | BY40: 1539 | BZ40: 2192 | CA40: -753 | CB40: 2563 | CC40: -699

Sheet RZiS B. Korp._P&L Corporate
A1: Go back to Table of content | B1: Powrót do spisu treści
A2: Comparable data pro-forma | B2: Dane porównywalne pro-forma
A3: CONSOLIDATED INCOME STATEMENT Corporate customers segment | B3: SKONSOLIDOWANY RACHUNEK ZYSKÓW I STRAT Segment bankowości korporacyjnej | BC3: 2020 | BG3: 2021 | BK3: 2022 | BO3: 2023 | BS3: 2024 | BW3: 2025 | CA3: 2026
BC4: 1Q | BD4: 2Q | BE4: 3Q | BF4: 4Q | BG4: 1Q | BH4: 2Q | BI4: 3Q | BJ4: 4Q | BK4: 1Q | BL4: 2Q | BM4: 3Q | BN4: 4Q | BO4: 1Q | BP4: 2Q | BQ4: 3Q | BR4: 4Q | BS4: 1Q | BT4: 2Q | BU4: 3Q | BV4: 4Q | BW4: 1Q | BX4: 2Q | BY4: 3Q | BZ4: 4Q | CA4: 1Q | CB4: 2Q | CC4: 3Q
A5: (PLN million) | B5: (w mln zł)
A6: Revenue total* | B6: Dochody ogółem* | BC6: =SUM(BC7:BC10) -> 820 | BD6: =SUM(BD7:BD10) -> 803 | BE6: =SUM(BE7:BE10) -> 805 | BF6: =SUM(BF7:BF10) -> 842 | BG6: =SUM(BG7:BG10) -> 819 | BH6: =SUM(BH7:BH10) -> 856 | BI6: =SUM(BI7:BI10) -> 909 | BJ6: =SUM(BJ7:BJ10) -> 1008 | ... CC6: =SUM(CC7:CC10) -> 1738
A7: Net interest income | B7: wynik z tytułu odsetek | BC7: 535 | BD7: 523 | BE7: 523 | BF7: 521 | BG7: 511 | BH7: 525 | BI7: 555 | BJ7: 663 | BK7: 811 | BL7: 942 | BM7: 977 | BN7: 972 | BO7: 1013 | BP7: 1088 | BQ7: 1120 | BR7: 1171 | BS7: 1151 | BT7: 1111 | BU7: 1139 | BV7: 1171 | BW7: 1152 | BX7: 1109 | BY7: 1103 | BZ7: 1153 | CA7: 1158 | CB7: 1161 | CC7: 1194
A8: Net commission income | B8: wynik z tytułu prowizji | BC8: 256 | BD8: 236 | BE8: 270 | BF8: 306 | BG8: 295 | BH8: 317 | BI8: 334 | BJ8: 341 | BK8: 372 | BL8: 375 | BM8: 388 | BN8: 379 | BO8: 391 | BP8: 391 | BQ8: 400 | BR8: 393 | BS8: 416 | BT8: 404 | BU8: 403 | BV8: 400 | BW8: 407 | BX8: 402 | BY8: 407 | BZ8: 420 | CA8: 409 | CB8: 426 | CC8: 429
A9: Other income/expenses | B9: pozostałe przychody/koszty | BC9: 29 | BD9: 44 | BE9: 12 | BF9: 15 | BG9: 13 | BH9: 14 | BI9: 20 | BJ9: 4 | BK9: 26 | BL9: -44 | BM9: -39 | BN9: -18 | BO9: 57 | BP9: 50 | BQ9: 31 | BR9: 105 | BS9: 16 | BT9: 57 | BU9: 48 | BV9: 29 | BW9: 79 | BX9: 110 | BY9: 98 | BZ9: 83 | CA9: 70 | CB9: 22 | CC9: 115
A10: Share in net profit (loss) of associated entities recognised under the equity method | B10: udział w zyskach (stratach) netto jednostek stowarzyszonych wykazywanych metodą praw własności | BC10: 0 | BD10: 0 | BE10: 0 | BF10: 0 | BG10: 0 | BH10: 0 | BI10: 0 | BJ10: 0 | BK10: 0 | BL10: 0 | BM10: 0 | BN10: 0 | BO10: 0 | BP10: 0 | BQ10: 0 | BR10: 0 | BS10: 0 | BT10: 0 | BU10: 0 | BV10: 0 | BW10: 0 | BX10: 0 | BY10: 0 | BZ10: 0 | CA10: 0 | CB10: 0 | CC10: 0
A11: Expenses total | B11: Koszty ogółem | BC11: =SUM(BC12:BC14) -> -391 | BD11: =SUM(BD12:BD14) -> -287 | BE11: =SUM(BE12:BE14) -> -310 | BF11: =SUM(BF12:BF14) -> -336 | BG11: =SUM(BG12:BG14) -> -417 | BH11: =SUM(BH12:BH14) -> -320 | BI11: =SUM(BI12:BI14) -> -321 | BJ11: =SUM(BJ12:BJ14) -> -364 | ... CC11: =SUM(CC12:CC14) -> -546
A12: Personnel expenses | B12: koszty osobowe | BC12: -154 | BD12: -156 | BE12: -167 | BF12: -188 | BG12: -177 | BH12: -181 | BI12: -179 | BJ12: -214 | BK12: -185 | BL12: -204 | BM12: -209 | BN12: -195 | BO12: -215 | BP12: -236 | BQ12: -237 | BR12: -275 | BS12: -222 | BT12: -264 | BU12: -260 | BV12: -262 | BW12: -237 | BX12: -276 | BY12: -261 | BZ12: -270 | CA12: -269 | CB12: -287 | CC12: -286
A13: Depreciation | B13: amortyzacja | BC13: -23 | BD13: -24 | BE13: -27 | BF13: -29 | BG13: -26 | BH13: -28 | BI13: -29 | BJ13: -30 | BK13: -27 | BL13: -27 | BM13: -29 | BN13: -30 | BO13: -31 | BP13: -33 | BQ13: -33 | BR13: -46 | BS13: -36 | BT13: -39 | BU13: -43 | BV13: -41 | BW13: -34 | BX13: -34 | BY13: -35 | BZ13: -39 | CA13: -31 | CB13: -34 | CC13: -34
A14: Other | B14: pozostałe | BC14: -214 | BD14: -107 | BE14: -116 | BF14: -119 | BG14: -214 | BH14: -111 | BI14: -113 | BJ14: -120 | BK14: -265 | BL14: -165 | BM14: -111 | BN14: -101 | BO14: -271 | BP14: -114 | BQ14: -135 | BR14: -120 | BS14: -286 | BT14: -213 | BU14: -157 | BV14: -157 | BW14: -354 | BX14: -206 | BY14: -198 | BZ14: -162 | CA14: -426 | CB14: -160 | CC14: -226
A15: Operating result | B15: Wynik operacyjny | BC15: =BC6+BC11 -> 429 | BD15: =BD6+BD11 -> 516 | BE15: =BE6+BE11 -> 495 | BF15: =BF6+BF11 -> 506 | BG15: =BG6+BG11 -> 402 | BH15: =BH6+BH11 -> 536 | BI15: =BI6+BI11 -> 588 | BJ15: =BJ6+BJ11 -> 644 | ... CC15: =CC6+CC11 -> 1192
A16: Impairment for expected losses | B16: odpisy z tytułu strat oczekiwanych | BC16: -185 | BD16: -242 | BE16: -63 | BF16: 1 | BG16: -61 | BH16: -46 | BI16: -48 | BJ16: -82 | BK16: -90 | BL16: -72 | BM16: -187 | BN16: -94 | BO16: -68 | BP16: -137 | BQ16: -105 | BR16: -193 | BS16: -163 | BT16: -265 | BU16: -432 | BV16: -55 | BW16: -186 | BX16: -235 | BY16: -200 | BZ16: -56 | CA16: -192 | CB16: -94 | CC16: -42
A18: Tax on certain financial institutions | B18: podatek od niektórych instytucji finansowych | BC18: -69 | BD18: -72 | BE18: -72 | BF18: -72 | BG18: -73 | BH18: -75 | BI18: -79 | BJ18: -86 | BK18: -90 | BL18: -98 | BM18: -104 | BN18: -108 | BO18: -102 | BP18: -108 | BQ18: -105 | BR18: -98 | BS18: -111 | BT18: -106 | BU18: -108 | BV18: -112 | BW18: -113 | BX18: -115 | BY18: -113 | BZ18: -134 | CA18: -115 | CB18: -124 | CC18: -126
A19: Result before tax | B19: Wynik brutto | BC19: =BC15+BC16+BC18+BC17 -> 175 | BD19: =BD15+BD16+BD18+BD17 -> 202 | BE19: =BE15+BE16+BE18+BE17 -> 360 | BF19: =BF15+BF16+BF18+BF17 -> 435 | BG19: =BG15+BG16+BG18+BG17 -> 268 | BH19: =BH15+BH16+BH18+BH17 -> 415 | BI19: =BI15+BI16+BI18+BI17 -> 461 | BJ19: =BJ15+BJ16+BJ18+BJ17 -> 476 | ... CC19: =CC15+CC16+CC18+CC17 -> 1024
A21: */ including the share in net profit of affiliated units shown using the method of ownership rights | B21: */ włączając udział w zyskach netto jednostek stowarzyszonych wykazywanych metodą praw własności | BC21: =ROUND(BC19,1)+ROUND('RZiS B. Detaliczna_P&L Retail'!BC19,1)=ROUND('RZiS_P&L'!BC29,1) -> TRUE | BD21: =ROUND(BD19,1)+ROUND('RZiS B. Detaliczna_P&L Retail'!BD19,1)=ROUND('RZiS_P&L'!BD29,1) -> TRUE | BE21: =ROUND(BE19,1)+ROUND('RZiS B. Detaliczna_P&L Retail'!BE19,1)=ROUND('RZiS_P&L'!BE29,1) -> TRUE | BF21: =ROUND(BF19,1)+ROUND('RZiS B. Detaliczna_P&L Retail'!BF19,1)=ROUND('RZiS_P&L'!BF29,1) -> TRUE

Sheet RZiS B. Detaliczna_P&L Retail
A1: Go back to Table of content | B1: Powrót do spisu treści
A2: Comparable data pro-forma | B2: Dane porównywalne pro-forma
A3: CONSOLIDATED INCOME STATEMENT Retail customers segment | B3: SKONSOLIDOWANY RACHUNEK ZYSKÓW I STRAT Segment klientów detalicznych | BC3: 2020 | BG3: 2021 | BK3: 2022 | BO3: 2023 | BS3: 2024 | BW3: 2025 | CA3: 2026
BC4: 1Q | BD4: 2Q | BE4: 3Q | BF4: 4Q | BG4: 1Q | BH4: 2Q | BI4: 3Q | BJ4: 4Q | BK4: 1Q | BL4: 2Q | BM4: 3Q | BN4: 4Q | BO4: 1Q | BP4: 2Q | BQ4: 3Q | BR4: 4Q | BS4: 1Q | BT4: 2Q | BU4: 3Q | BV4: 4Q | BW4: 1Q | BX4: 2Q | BY4: 3Q | BZ4: 4Q | CA4: 1Q | CB4: 2Q | CC4: 3Q
A5: (PLN million) | B5: (w mln zł)
A6: Revenue total* | B6: Dochody ogółem* | BC6: =SUM(BC7:BC10) -> 742 | BD6: =SUM(BD7:BD10) -> 710 | BE6: =SUM(BE7:BE10) -> 747 | BF6: =SUM(BF7:BF10) -> 763 | BG6: =SUM(BG7:BG10) -> 783 | BH6: =SUM(BH7:BH10) -> 804 | BI6: =SUM(BI7:BI10) -> 841 | BJ6: =SUM(BJ7:BJ10) -> 877 | ... CC6: =SUM(CC7:CC10) -> 1421
A7: Net interest income | B7: wynik z tytułu odsetek | BC7: 617 | BD7: 577 | BE7: 613 | BF7: 633 | BG7: 631 | BH7: 649 | BI7: 682 | BJ7: 754 | BK7: 922 | BL7: 956 | BM7: -804 | BN7: 838 | BO7: 847 | BP7: 966 | BQ7: 970 | BR7: 996 | BS7: 1011 | BT7: 931 | BU7: 1121 | BV7: 1090 | BW7: 1059 | BX7: 1064 | BY7: 1089 | BZ7: 1142 | CA7: 1175 | CB7: 1169 | CC7: 1250
A8: Net commission income | B8: wynik z tytułu prowizji | BC8: 103 | BD8: 108 | BE8: 124 | BF8: 126 | BG8: 134 | BH8: 139 | BI8: 149 | BJ8: 136 | BK8: 162 | BL8: 144 | BM8: 143 | BN8: 132 | BO8: 131 | BP8: 142 | BQ8: 153 | BR8: 163 | BS8: 160 | BT8: 167 | BU8: 179 | BV8: 165 | BW8: 172 | BX8: 182 | BY8: 191 | BZ8: 178 | CA8: 186 | CB8: 253 | CC8: 263
A9: Other income/expenses | B9: pozostałe przychody/koszty | BC9: 18 | BD9: 21 | BE9: 6 | BF9: 0 | BG9: 12 | BH9: 9 | BI9: 2 | BJ9: -21 | BK9: 4 | BL9: -4 | BM9: 53 | BN9: 10 | BO9: 13 | BP9: -6 | BQ9: -13 | BR9: 76 | BS9: -1 | BT9: 24 | BU9: 19 | BV9: 35 | BW9: 41 | BX9: 42 | BY9: 58 | BZ9: 64 | CA9: 38 | CB9: 197 | CC9: -93
A10: Share in net profit (loss) of associated entities recognised under the equity method | B10: udział w zyskach (stratach) netto jednostek stowarzyszonych wykazywanych metodą praw własności | BC10: 4 | BD10: 4 | BE10: 4 | BF10: 4 | BG10: 6 | BH10: 7 | BI10: 8 | BJ10: 8 | BK10: 7 | BL10: 6 | BM10: 5 | BN10: 7 | BO10: 6 | BP10: 6 | BQ10: 6 | BR10: 12 | BS10: 7 | BT10: 8 | BU10: 8 | BV10: 10 | BW10: 9 | BX10: 11 | BY10: 12 | BZ10: 17 | CA10: 11 | CB10: 0 | CC10: 1
A11: Expenses total | B11: Koszty ogółem | BC11: =SUM(BC12:BC14) -> -384 | BD11: =SUM(BD12:BD14) -> -351 | BE11: =SUM(BE12:BE14) -> -357 | BF11: =SUM(BF12:BF14) -> -347 | BG11: =SUM(BG12:BG14) -> -404 | BH11: =SUM(BH12:BH14) -> -372 | BI11: =SUM(BI12:BI14) -> -373 | BJ11: =SUM(BJ12:BJ14) -> -394 | ... CC11: =SUM(CC12:CC14) -> -571
A12: Personnel expenses | B12: koszty osobowe | BC12: -154 | BD12: -154 | BE12: -164 | BF12: -177 | BG12: -178 | BH12: -177 | BI12: -181 | BJ12: -210 | BK12: -176 | BL12: -206 | BM12: -206 | BN12: -219 | BO12: -208 | BP12: -230 | BQ12: -238 | BR12: -297 | BS12: -247 | BT12: -239 | BU12: -258 | BV12: -279 | BW12: -265 | BX12: -249 | BY12: -274 | BZ12: -293 | CA12: -282 | CB12: -300 | CC12: -305
A13: Depreciation | B13: amortyzacja | BC13: -49 | BD13: -48 | BE13: -46 | BF13: -49 | BG13: -45 | BH13: -44 | BI13: -42 | BJ13: -43 | BK13: -42 | BL13: -41 | BM13: -42 | BN13: -42 | BO13: -42 | BP13: -40 | BQ13: -40 | BR13: -62 | BS13: -45 | BT13: -40 | BU13: -47 | BV13: -49 | BW13: -46 | BX13: -40 | BY13: -44 | BZ13: -50 | CA13: -43 | CB13: -44 | CC13: -49
A14: Other | B14: pozostałe | BC14: -181 | BD14: -149 | BE14: -147 | BF14: -121 | BG14: -181 | BH14: -151 | BI14: -150 | BJ14: -141 | BK14: -236 | BL14: -557 | BM14: -225 | BN14: -102 | BO14: -235 | BP14: -198 | BQ14: -177 | BR14: -187 | BS14: -253 | BT14: -183 | BU14: -192 | BV14: -146 | BW14: -266 | BX14: -250 | BY14: -235 | BZ14: -166 | CA14: -230 | CB14: -276 | CC14: -217
A15: Operating result | B15: Wynik operacyjny | BC15: =BC6+BC11 -> 358 | BD15: =BD6+BD11 -> 359 | BE15: =BE6+BE11 -> 390 | BF15: =BF6+BF11 -> 416 | BG15: =BG6+BG11 -> 379 | BH15: =BH6+BH11 -> 432 | BI15: =BI6+BI11 -> 468 | BJ15: =BJ6+BJ11 -> 483 | ... CC15: =CC6+CC11 -> 850
A16: Impairment for expected losses | B16: odpisy z tytułu strat oczekiwanych | BC16: -109 | BD16: -61 | BE16: -62 | BF16: -84 | BG16: -68 | BH16: 27 | BI16: -32 | BJ16: -6 | BK16: -61 | BL16: -111 | BM16: -19 | BN16: -102 | BO16: -20 | BP16: -60 | BQ16: -46 | BR16: 121 | BS16: -33 | BT16: -27 | BU16: 84 | BV16: -53 | BW16: -23 | BX16: 43 | BY16: -51 | BZ16: -74 | CA16: -18 | CB16: 54 | CC16: -30
A17: Legal cost of risk for FX-mortgage loans | B17: koszty ryzyka prawnego walutowych kredytów hipotecznych | BC17: 0 | BD17: -10 | BE17: -20 | BF17: -240 | BG17: 0 | BH17: 0 | BI17: 0 | BJ17: -56 | BK17: -1 | BL17: 0 | BM17: 0 | BN17: -293 | BO17: 0 | BP17: 0 | BQ17: 0 | BR17: -106 | BS17: -1 | BT17: -26 | BU17: 0 | BV17: -65 | BW17: 0 | BX17: -1 | BY17: 0 | BZ17: -59 | CA17: -1 | CB17: -1 | CC17: -1
A18: Tax on certain financial institutions | B18: podatek od niektórych instytucji finansowych | BC18: -47 | BD18: -49 | BE18: -50 | BF18: -51 | BG18: -53 | BH18: -56 | BI18: -59 | BJ18: -64 | BK18: -62 | BL18: -63 | BM18: -61 | BN18: -61 | BO18: -57 | BP18: -57 | BQ18: -59 | BR18: -58 | BS18: -76 | BT18: -73 | BU18: -74 | BV18: -80 | BW18: -83 | BX18: -83 | BY18: -86 | BZ18: -74 | CA18: -89 | CB18: -97 | CC18: -97
A19: Result before tax | B19: Wynik brutto | BC19: =BC15+BC16+BC18+BC17 -> 202 | BD19: =BD15+BD16+BD18+BD17 -> 239 | BE19: =BE15+BE16+BE18+BE17 -> 258 | BF19: =BF15+BF16+BF18+BF17 -> 41 | BG19: =BG15+BG16+BG18+BG17 -> 258 | BH19: =BH15+BH16+BH18+BH17 -> 403 | BI19: =BI15+BI16+BI18+BI17 -> 377 | BJ19: =BJ15+BJ16+BJ18+BJ17 -> 357 | ... CC19: =CC15+CC16+CC18+CC17 -> 722
A21: */ including the share in net profit of affiliated units shown using the method of ownership rights | B21: */ włączając udział w zyskach netto jednostek stowarzyszonych wykazywanych metodą praw własności

Sheet Wynik odsetkowy_Interest income
A1: Go back to Table of content | B1: Powrót do spisu treści
A2: Comparable data pro-forma NOTE! - change in the layout Row 25 added | B2: Dane porównywalne pro-forma
A3: Net interest income | B3: Wynik z tytułu odsetek | BC3: 2020 | BG3: 2021 | BK3: 2022 | BO3: 2023 | BS3: 2024 | BW3: 2025 | CA3: 2026
BC4: 1Q | BD4: 2Q | BE4: 3Q | BF4: 4Q | BG4: 1Q | BH4: 2Q | BI4: 3Q | BJ4: 4Q | BK4: 1Q | BL4: 2Q | BM4: 3Q | BN4: 4Q | BO4: 1Q | BP4: 2Q | BQ4: 3Q | BR4: 4Q | BS4: 1Q | BT4: 2Q | BU4: 3Q | BV4: 4Q | BW4: 1Q | BX4: 2Q | BY4: 3Q | BZ4: 4Q | CA4: 1Q | CB4: 2Q | CC4: 3Q
A5: (PLN million) | B5: (w mln zł)
A6: Interest income on assets measured at amortised cost, including: | B6: Przychody odsetkowe od aktywów wycenianych w zamortyzowanym koszcie w tym: | BC6: =SUM(BC7:BC12) -> 1386 | BD6: =SUM(BD7:BD12) -> 1303 | BE6: =SUM(BE7:BE12) -> 1276 | BF6: =SUM(BF7:BF12) -> 1278 | BG6: =SUM(BG7:BG12) -> 1268 | BH6: =SUM(BH7:BH12) -> 1296 | BI6: =SUM(BI7:BI12) -> 1353 | BJ6: =SUM(BJ7:BJ12) -> 1515 | ... BL6: =SUM(BL7:BL12) -> 2144 | BM6: =SUM(BM7:BM8,BM11:BM12) -> 705 | BN6: =SUM(BN7:BN8,BN11:BN12) -> 2522 | BO6: =SUM(BO7:BO8,BO11:BO12) -> 2680 | BP6: =SUM(BP7:BP8,BP11:BP12) -> 2846 | BQ6: =SUM(BQ7:BQ8,BQ11:BQ12) -> 2933 | BR6: =SUM(BR7:BR8,BR11:BR12) -> 2909 | BS6: =SUM(BS7:BS8,BS11:BS12) -> 3026 | BT6: =SUM(BT7:BT8,BT11:BT12) -> 2915 | ... BV6: =SUM(BV7:BV8,BV11:BV12) -> 3243 | BW6: =SUM(BW7:BW10,BW11:BW12) -> 3201 | BX6: =SUM(BX7:BX10,BX11:BX12) -> 3310 | BY6: =SUM(BY7:BY10,BY11:BY12) -> 3393 | BZ6: =SUM(BZ7:BZ10,BZ11:BZ12) -> 3393 | CA6: =SUM(CA7:CA10,CA11:CA12) -> 3338 | CB6: =SUM(CB7:CB10,CB11:CB12) -> 3402 | CC6: =SUM(CC7:CC10,CC11:CC12) -> 3560
A7: - Interest on loans and receivables to other banks measured at amortised cost | B7: - odsetki od kredytów i innych należności udzielonych innym bankom wycenianych zamortyzowanym kosztem | BC7: 10 | BD7: 5 | BE7: 2 | BF7: 2 | BG7: 2 | BH7: 2 | BI7: 3 | BJ7: 9 | BK7: 29 | BL7: 91 | BM7: 124 | BN7: 153 | BO7: 168 | BP7: 204 | BQ7: 229 | BR7: 254 | BS7: 342 | BT7: 316 | BU7: 291 | BV7: 278 | BW7: 131 | BX7: 130 | BY7: 120 | BZ7: 107 | CA7: 97 | CB7: 95 | CC7: 111
A8: - Interest on loans and receivables to customers measured at amortised cost | B8: - odsetki od kredytów i innych należności udzielonych klientom wycenianych zamortyzowanym kosztem | BC8: 1200 | BD8: 1092 | BE8: 1090 | BF8: 1120 | BG8: 1114 | BH8: 1143 | BI8: 1209 | BJ8: 1352 | BK8: 1528 | BL8: 1746 | BM8: 155 | BN8: 1891 | BO8: 1942 | BP8: 2009 | BQ8: 2086 | BR8: 2024 | BS8: 2002 | BT8: 1917 | BU8: 2167 | BV8: 2195 | BW8: 2154 | BX8: 2252 | BY8: 2316 | BZ8: 2360 | CA8: 2343 | CB8: 2387 | CC8: 2441
A9: - the impact of the adjustment to the gross carrying amount of loans due to credit moratoria | B9: - wpływ korekty wartości bilansowej brutto kredytów z tytułu moratoriów kredytowych | BM9: -1632 | BN9: -13 | BO9: 0 | BP9: 0 | BQ9: 0 | BR9: 0 | BS9: 0 | BT9: -171 | BU9: 20 | BV9: 11 | BW9: 0 | BX9: 0 | BY9: 0 | BZ9: 0 | CA9: 0 | CB9: 0 | CC9: 0
A10: - Interest on receivables from repurchase agreements measured at amortized cost | B10: - odsetki od należności z tytułu transakcji z przyrzeczeniem odkupu wyceniane według zamortyzowanego kosztu | BW10: 149 | BX10: 129 | BY10: 124 | BZ10: 124 | CA10: 90 | CB10: 82 | CC10: 125
A11: - Interest on securities measured at amortised cost | B11: - odsetki od papierów wartościowych wycenianych zamortyzowanym kosztem | BC11: 59 | BD11: 97 | BE11: 113 | BF11: 111 | BG11: 113 | BH11: 111 | BI11: 106 | BJ11: 113 | BK11: 135 | BL11: 154 | BM11: 189 | BN11: 216 | BO11: 261 | BP11: 233 | BQ11: 215 | BR11: 242 | BS11: 283 | BT11: 246 | BU11: 263 | BV11: 311 | BW11: 327 | BX11: 300 | BY11: 305 | BZ11: 315 | CA11: 354 | CB11: 437 | CC11: 536
A12: - Interest on securities measured through other comprehensive income | B12: - odsetki od papierów wartościowych wycenianych przez inne całkowite dochody | BC12: 117 | BD12: 109 | BE12: 71 | BF12: 45 | BG12: 39 | BH12: 40 | BI12: 35 | BJ12: 41 | BK12: 98 | BL12: 153 | BM12: 237 | BN12: 262 | BO12: 309 | BP12: 400 | BQ12: 403 | BR12: 389 | BS12: 399 | BT12: 436 | BU12: 460 | BV12: 459 | BW12: 440 | BX12: 499 | BY12: 528 | BZ12: 487 | CA12: 454 | CB12: 401 | CC12: 347
A13: Other interest income, including: | B13: Pozostałe przychody odsetkowe tym | BC13: =SUM(BC16:BC17,BC19,BC20,BC21,BC14:BC15,BC18) -> 1 | BD13: =SUM(BD16:BD17,BD19,BD20,BD21,BD14:BD15,BD18) -> 1 | BE13: =SUM(BE16:BE17,BE19,BE20,BE21,BE14:BE15,BE18) -> 1 | BF13: =SUM(BF16:BF17,BF19,BF20,BF21,BF14:BF15,BF18) -> 1 | BG13: =SUM(BG16:BG17,BG19,BG20,BG21,BG14:BG15,BG18) -> 0 | BH13: =SUM(BH16:BH17,BH19,BH20,BH21,BH14:BH15,BH18) -> 0 | BI13: =SUM(BI16:BI17,BI19,BI20,BI21,BI14:BI15,BI18) -> 0 | BJ13: =SUM(BJ16:BJ17,BJ19,BJ20,BJ21,BJ14:BJ15,BJ18) -> 1 | ... CC13: =SUM(CC16:CC17,CC19,CC20,CC21,CC14:CC15,CC18) -> 68
A14: - Interest on loans and receivables to clients measured at fair value through profit or lost | B14: - odsetki od kredytów i innych należności udzielonych klientom wycenianych do wartości godziwej przez rachunek zysków i strat | BC14: 1 | BD14: 1 | BE14: 1 | BF14: 1 | BG14: 0 | BH14: 0 | BI14: 0 | BJ14: 1 | BK14: 1 | BL14: 1 | BM14: 1 | BN14: 1 | BO14: 0 | BP14: 1 | BQ14: 1 | BR14: 0 | BS14: 0 | BT14: 1 | BU14: 0 | BV14: 0 | BW14: 0 | BX14: 0 | BY14: 0 | BZ14: 0 | CA14: 0 | CB14: 0 | CC14: 0
A15: - interest income related to the settlement of valuations of cash flow hedging derivatives | B15: - przychody o charakterze odsetkowym powiązane z rozliczeniem wycen instrumentów pochodnych zabezpieczających przepływy pieniężne | BC15: 0 | BD15: 0 | BE15: 0 | BF15: 0 | BG15: 0 | BH15: 0 | BI15: 0 | BJ15: 0 | BK15: 61 | BL15: 234 | BM15: 312 | BN15: 340 | BO15: 302 | BP15: 287 | BQ15: 243 | BR15: 207 | BS15: 206 | BT15: 198 | BU15: 175 | BV15: 167 | BW15: 167 | BX15: 143 | BY15: 111 | BZ15: 94 | CA15: 89 | CB15: 76 | CC15: 68
A16: - Interest on available-for-sale debt securities | B16: - odsetki od aktywów finansowych dostepnych do sprzedaży | BC16: - | BD16: - | BE16: - | BF16: - | BG16: - | BH16: - | BI16: - | BJ16: - | BK16: - | BL16: - | BM16: - | BN16: - | BO16: - | BP16: - | BQ16: - | BR16: - | BS16: - | BT16: - | BU16: - | BV16: - | BW16: - | BX16: - | BY16: - | BZ16: - | CA16: - | CB16: - | CC16: -
A17: - Interest on debt securities held for trading | B17: - odsetki od aktywów finansowych przeznaczonych do obrotu | BC17: - | BD17: - | BE17: - | BF17: - | BG17: - | BH17: - | BI17: - | BJ17: - | BK17: - | BL17: - | BM17: - | BN17: - | BO17: - | BP17: - | BQ17: - | BR17: - | BS17: - | BT17: - | BU17: - | BV17: - | BW17: - | BX17: - | BY17: - | BZ17: - | CA17: - | CB17: - | CC17: -
A18: - Interest on held-to-maturity debt securities | B18: - odsetki od aktywów finansowych utrzymywanych do terminu wymagalności | BC18: - | BD18: - | BE18: - | BF18: - | BG18: - | BH18: - | BI18: - | BJ18: - | BK18: - | BL18: - | BM18: - | BN18: - | BO18: - | BP18: - | BQ18: - | BR18: - | BS18: - | BT18: - | BU18: - | BV18: - | BW18: - | BX18: - | BY18: - | BZ18: - | CA18: - | CB18: - | CC18: -
A19: - Interest on debt securities designated as fair value at initial recognition | B19: - odsetki od aktywów finansowych desygnowanych do wyceny do wartości godziwej przy początkowym ujęciu | BC19: - | BD19: - | BE19: - | BF19: - | BG19: - | BH19: - | BI19: - | BJ19: - | BK19: - | BL19: - | BM19: - | BN19: - | BO19: - | BP19: - | BQ19: - | BR19: - | BS19: - | BT19: - | BU19: - | BV19: - | BW19: - | BX19: - | BY19: - | BZ19: - | CA19: - | CB19: - | CC19: -
A20: - Net interest result on derivatives | B20: - wynik odsetkowy na instrumentach pochodnych | BC20: - | BD20: - | BE20: - | BF20: - | BG20: - | BH20: - | BI20: - | BJ20: - | BK20: - | BL20: - | BM20: - | BN20: - | BO20: - | BP20: - | BQ20: - | BR20: - | BS20: - | BT20: - | BU20: - | BV20: - | BW20: - | BX20: - | BY20: - | BZ20: - | CA20: - | CB20: - | CC20: -
A21: - Other | B21: - inne | BC21: - | BD21: - | BE21: - | BF21: - | BG21: - | BH21: - | BI21: - | BJ21: - | BK21: - | BL21: - | BM21: - | BN21: - | BO21: - | BP21: - | BQ21: - | BR21: - | BS21: - | BT21: - | BU21: - | BV21: - | BW21: - | BX21: - | BY21: - | BZ21: - | CA21: - | CB21: - | CC21: -
A22: Total interest income | B22: Razem przychody z tytułu odsetek | BC22: =SUM(BC6,BC13) -> 1387 | BD22: =SUM(BD6,BD13) -> 1304 | BE22: =SUM(BE6,BE13) -> 1277 | BF22: =SUM(BF6,BF13) -> 1279 | BG22: =SUM(BG6,BG13) -> 1268 | BH22: =SUM(BH6,BH13) -> 1296 | BI22: =SUM(BI6,BI13) -> 1353 | BJ22: =SUM(BJ6,BJ13) -> 1516 | ... CC22: =SUM(CC6,CC13) -> 3628
A24: Interest expenses | B24: Koszty odsetek
A25: - Interest on deposits from banks | B25: - odsetki od zobowiązań wobec innych banków | BC25: -13 | BD25: -3 | BE25: -2 | BF25: -2 | BG25: -1 | BH25: -1 | BI25: -1 | BJ25: -8 | BK25: -52 | BL25: -103 | BM25: -113 | BN25: -101 | BO25: -92 | BP25: -127 | BQ25: -105 | BR25: -100 | BS25: -189 | BT25: -205 | BU25: -195 | BV25: -200 | BW25: -157 | BX25: -147 | BY25: -137 | BZ25: -137 | CA25: -132 | CB25: -132 | CC25: -149
A26: - Interest on deposits from customers | B26: - odsetki od zobowiązań wobec klientów | BC26: -211 | BD26: -190 | BE26: -128 | BF26: -114 | BG26: -116 | BH26: -112 | BI26: -106 | BJ26: -82 | BK26: -26 | BL26: -243 | BM26: -561 | BN26: -753 | BO26: -849 | BP26: -767 | BQ26: -811 | BR26: -694 | BS26: -728 | BT26: -723 | BU26: -773 | BV26: -826 | BW26: -840 | BX26: -940 | BY26: -962 | BZ26: -896 | CA26: -797 | CB26: -887 | CC26: -898
A27: - interest on liabilities from repurchase agreements measured at amortized cost | B27: - odsetki od zobowiązań z tytułu transakcji z przyrzeczeniem odkupu wyceniane według zamortyzowanego kosztu | BW27: -40 | BX27: -77 | BY27: -112 | BZ27: -49 | CA27: -58 | CB27: -31 | CC27: -28
A28: - Interest on issue of debt securities | B28: - odsetki od zobowiązań z tytułu emisji papierów wartościowych | BC28: -3 | BD28: -2 | BE28: -2 | BF28: -1 | BG28: -2 | BH28: -1 | BI28: -1 | BJ28: -2 | BK28: -3 | BL28: -6 | BM28: -6 | BN28: -8 | BO28: -8 | BP28: -8 | BQ28: -8 | BR28: -7 | BS28: -6 | BT28: -7 | BU28: -9 | BV28: -9 | BW28: -8 | BX28: -8 | BY28: -8 | BZ28: -20 | CA28: -19 | CB28: -20 | CC28: -30
A29: - Interest on subordinated liabilities | B29: - odsetki od zobowiązań podporządkowanych | BC29: -7 | BD29: -8 | BE29: -8 | BF29: -7 | BG29: -7 | BH29: -7 | BI29: -7 | BJ29: -6 | BK29: -4 | BL29: -4 | BM29: -6 | BN29: -12 | BO29: -16 | BP29: -18 | BQ29: -20 | BR29: -22 | BS29: -21 | BT29: -20 | BU29: -21 | BV29: -18 | BW29: -16 | BX29: -14 | BY29: -14 | BZ29: -22 | CA29: -24 | CB29: -24 | CC29: -27
A30: - Interest on financial liabilities held for trading | B30: - odsetki od zobowiązań finansowych przeznaczonych do obrotu | BC30: - | BD30: - | BE30: - | BF30: - | BG30: - | BH30: - | BI30: - | BJ30: - | BK30: - | BL30: - | BM30: - | BN30: - | BO30: - | BP30: - | BQ30: - | BR30: - | BS30: - | BT30: - | BU30: - | BV30: - | BW30: - | BX30: - | BY30: - | BZ30: - | CA30: - | CB30: - | CC30: -
A31: - Interest on leasing liabilities | B31: - odsetki od zobowiązań leasingowych | BC31: -1 | BD31: -1 | BE31: -1 | BF31: -1 | BG31: 0 | BH31: -1 | BI31: -1 | BJ31: -1 | BK31: -1 | BL31: -2 | BM31: -2 | BN31: -3 | BO31: -4 | BP31: -5 | BQ31: -4 | BR31: -4 | BS31: -5 | BT31: -4 | BU31: -5 | BV31: -4 | BW31: -5 | BX31: -4 | BY31: -4 | BZ31: -4 | CA31: -4 | CB31: -3 | CC31: -4
A32: - interest cost related to the settlement of valuations of cash flow hedging derivatives | B32: - koszty o charakterze odsetkowym powiązane z rozliczeniem wycen instrumentów pochodnych zabezpieczających przepływy pieniężne | BC32: 0 | BD32: 0 | BE32: 0 | BF32: 0 | BG32: 0 | BH32: 0 | BI32: 0 | BJ32: 0 | BK32: -33 | BL32: -123 | BM32: -157 | BN32: -176 | BO32: -153 | BP32: -155 | BQ32: -139 | BR32: -122 | BS32: -121 | BT32: -113 | BU32: -93 | BV32: -92 | BW32: -91 | BX32: -90 | BY32: -75 | BZ32: -64 | CA32: -60 | CB32: -51 | CC32: -48
A33: Total interest expenses | B33: Razem koszty odsetek | BC33: =SUM(BC25:BC32) -> -235 | BD33: =SUM(BD25:BD32) -> -204 | BE33: =SUM(BE25:BE32) -> -141 | BF33: =SUM(BF25:BF32) -> -125 | BG33: =SUM(BG25:BG32) -> -126 | BH33: =SUM(BH25:BH32) -> -122 | BI33: =SUM(BI25:BI32) -> -116 | BJ33: =SUM(BJ25:BJ32) -> -99 | ... CC33: =SUM(CC25:CC32) -> -1184
A35: Net interest income | B35: Wynik z tytułu odsetek | BC35: =BC22+BC33 -> 1152 | BD35: =BD22+BD33 -> 1100 | BE35: =BE22+BE33 -> 1136 | BF35: =BF22+BF33 -> 1154 | BG35: =BG22+BG33 -> 1142 | BH35: =BH22+BH33 -> 1174 | BI35: =BI22+BI33 -> 1237 | BJ35: =BJ22+BJ33 -> 1417 | ... CC35: =CC22+CC33 -> 2444

Sheet Marża odsetkowa_NIM
A1: Go back to Table of content | B1: Powrót do spisu treści
A2: Comparable data pro-forma NOTE! - change in the layout Row 25 added | B2: Dane porównywalne pro-forma
A3: NIM | B3: Marża odsetkowa | BC3: 2020 | BG3: 2021 | BK3: 2022 | BO3: 2023 | BS3: 2024 | BW3: 2025 | CA3: 2026
BC4: 1Q | BD4: 2Q | BE4: 3Q | BF4: 4Q | BG4: 1Q | BH4: 2Q | BI4: 3Q | BJ4: 4Q | BK4: 1Q | BL4: 2Q | BM4: 3Q | BN4: 4Q | BO4: 1Q | BP4: 2Q | BQ4: 3Q | BR4: 4Q | BS4: 1Q | BT4: 2Q | BU4: 3Q | BV4: 4Q | BW4: 1Q | BX4: 2Q | BY4: 3Q | BZ4: 4Q | CA4: 1Q | CB4: 2Q | CC4: 3Q
A5: (PLN million) | B5: (w mln zł)
A6: Interest earning assets | B6: Aktywa odsetkowe | BC6: =+BC8+BC10+BC11+BC9+BC12+BC7+BC13 -> 167565 | BD6: =+BD8+BD10+BD11+BD9+BD12+BD7+BD13 -> 177430 | BE6: =+BE8+BE10+BE11+BE9+BE12+BE7+BE13 -> 181445 | BF6: =+BF8+BF10+BF11+BF9+BF12+BF7+BF13 -> 182555 | BG6: =+BG8+BG10+BG11+BG9+BG12+BG7+BG13 -> 190877 | BH6: =+BH8+BH10+BH11+BH9+BH12+BH7+BH13 -> 193314 | BI6: =+BI8+BI10+BI11+BI9+BI12+BI7+BI13 -> 195886 | BJ6: =+BJ8+BJ10+BJ11+BJ9+BJ12+BJ7+BJ13 -> 196457 | ... CC6: =+CC8+CC10+CC11+CC9+CC12+CC7+CC13 -> 315691
A7: =Bilans_BS!A7 -> - Cash in hand and balances with the Central Bank | B7: =Bilans_BS!B7 -> - Kasa, środki w Banku Centralnym | BC7: =Bilans_BS!BC7 -> 2506 | BD7: =Bilans_BS!BD7 -> 2341 | BE7: =Bilans_BS!BE7 -> 1588 | BF7: =Bilans_BS!BF7 -> 1228 | BG7: =Bilans_BS!BG7 -> 1894 | BH7: =Bilans_BS!BH7 -> 1199 | BI7: =Bilans_BS!BI7 -> 1318 | BJ7: =Bilans_BS!BJ7 -> 1378 | ... CC7: =Bilans_BS!CC7 -> 15814
A8: =Bilans_BS!A8 -> - Loans and receivables to other banks | B8: =Bilans_BS!B8 -> - Kredyty i inne należności udzielone innym bankom | BC8: =Bilans_BS!BC8 -> 317 | BD8: =Bilans_BS!BD8 -> 314 | BE8: =Bilans_BS!BE8 -> 337 | BF8: =Bilans_BS!BF8 -> 343 | BG8: =Bilans_BS!BG8 -> 341 | BH8: =Bilans_BS!BH8 -> 361 | BI8: =Bilans_BS!BI8 -> 343 | BJ8: =Bilans_BS!BJ8 -> 427 | ... CC8: =Bilans_BS!CC8 -> 3462
A9: =Bilans_BS!A13 -> - Investments | B9: =Bilans_BS!B13 -> - Inwestycyjne papiery wartościowe | BC9: =Bilans_BS!BC13 -> 38095 | BD9: =Bilans_BS!BD13 -> 53077 | BE9: =Bilans_BS!BE13 -> 56084 | BF9: =Bilans_BS!BF13 -> 54171 | BG9: =Bilans_BS!BG13 -> 54708 | BH9: =Bilans_BS!BH13 -> 55222 | BI9: =Bilans_BS!BI13 -> 49444 | BJ9: =Bilans_BS!BJ13 -> 45585 | ... CC9: =Bilans_BS!CC13 -> 82029
A10: =Bilans_BS!A16 -> - Transferred assets | B10: =Bilans_BS!B16 -> - Aktywa stanowiące zabezpieczenie zobowiązań | BC10: =Bilans_BS!BC16 -> 2111 | BD10: =Bilans_BS!BD16 -> 4 | BE10: =Bilans_BS!BE16 -> 0 | BF10: =Bilans_BS!BF16 -> 963 | BG10: =Bilans_BS!BG16 -> 3607 | BH10: =Bilans_BS!BH16 -> 1881 | BI10: =Bilans_BS!BI16 -> 3019 | BJ10: =Bilans_BS!BJ16 -> 2281 | ... CC10: =Bilans_BS!CC16 -> 5077
A11: =Bilans_BS!A12 -> - Derivative hedge instruments | B11: =Bilans_BS!B12 -> - Pochodne instrumenty zabezpieczające | BC11: =Bilans_BS!BC12 -> 1076 | BD11: =Bilans_BS!BD12 -> 1096 | BE11: =Bilans_BS!BE12 -> 1054 | BF11: =Bilans_BS!BF12 -> 1195 | BG11: =Bilans_BS!BG12 -> 874 | BH11: =Bilans_BS!BH12 -> 882 | BI11: =Bilans_BS!BI12 -> 593 | BJ11: =Bilans_BS!BJ12 -> 250 | ... CC11: =Bilans_BS!CC12 -> 236
A12: =Bilans_BS!A14 -> - Loans and receivables to customers at amortised cost | B12: =Bilans_BS!B14 -> - Kredyty i inne należności udzielone klientom wyceniane wg zamortyzowanego kosztu | BC12: =Bilans_BS!BC14 -> 123460 | BD12: =Bilans_BS!BD14 -> 120598 | BE12: =Bilans_BS!BE14 -> 122382 | BF12: =Bilans_BS!BF14 -> 124655 | BG12: =Bilans_BS!BG14 -> 129453 | BH12: =Bilans_BS!BH14 -> 133769 | BI12: =Bilans_BS!BI14 -> 141169 | BJ12: =Bilans_BS!BJ14 -> 146536 | ... CC12: =Bilans_BS!CC14 -> 189694
A13: - Receivables due to repo transactions | B13: - Należności z tytułu transakcji z przyrzeczeniem odkupu | BC13: 0 | BD13: 0 | BE13: 0 | BF13: 0 | BG13: 0 | BH13: 0 | BI13: 0 | BJ13: 0 | BK13: 2 | BL13: 0 | BM13: 0 | BN13: 3760 | BO13: 8210 | BP13: 10395 | BQ13: 9845 | BR13: 19000 | BS13: 19437 | BT13: 18873 | BU13: 18719 | BV13: 21819 | BW13: 20711 | BX13: 23336 | BY13: 26209 | BZ13: 23101 | CA13: 11658 | CB13: 18526 | CC13: 19379
A15: Interest bearing liabilities | B15: Pasywa odsetkowe | BC15: =+BC16+BC17+BC18+BC19+BC20+BC21 -> 149460 | BD15: =+BD16+BD17+BD18+BD19+BD20+BD21 -> 158685 | BE15: =+BE16+BE17+BE18+BE19+BE20+BE21 -> 162396 | BF15: =+BF16+BF17+BF18+BF19+BF20+BF21 -> 163495 | BG15: =+BG16+BG17+BG18+BG19+BG20+BG21 -> 172743 | BH15: =+BH16+BH17+BH18+BH19+BH20+BH21 -> 174683 | BI15: =+BI16+BI17+BI18+BI19+BI20+BI21 -> 178163 | BJ15: =+BJ16+BJ17+BJ18+BJ19+BJ20+BJ21 -> 183479 | ... CC15: =+CC16+CC17+CC18+CC19+CC20+CC21 -> 296010
A16: =Bilans_BS!A30 -> - Liabilities due to other banks | B16: =Bilans_BS!B30 -> - Zobowiązania wobec innych banków | BC16: =Bilans_BS!BC30 -> 5089 | BD16: =Bilans_BS!BD30 -> 4595 | BE16: =Bilans_BS!BE30 -> 4883 | BF16: =Bilans_BS!BF30 -> 7465 | BG16: =Bilans_BS!BG30 -> 8754 | BH16: =Bilans_BS!BH30 -> 7550 | BI16: =Bilans_BS!BI30 -> 7280 | BJ16: =Bilans_BS!BJ30 -> 8060 | ... CC16: =Bilans_BS!CC30 -> 15750
A17: =Bilans_BS!A32 -> - Derivative hedge instruments | B17: =Bilans_BS!B32 -> - Pochodne instrumenty zabezpieczające | BC17: =Bilans_BS!BC32 -> 510 | BD17: =Bilans_BS!BD32 -> 481 | BE17: =Bilans_BS!BE32 -> 450 | BF17: =Bilans_BS!BF32 -> 558 | BG17: =Bilans_BS!BG32 -> 550 | BH17: =Bilans_BS!BH32 -> 454 | BI17: =Bilans_BS!BI32 -> 406 | BJ17: =Bilans_BS!BJ32 -> 236 | ... CC17: =Bilans_BS!CC32 -> 187
